BEGIN:VCALENDAR
VERSION:2.0
PRODID:-//สมาคมอสังหาริมทรัพย์ภูเก็ต (P-REA) - ECPv6.8.0//NONSGML v1.0//EN
CALSCALE:GREGORIAN
METHOD:PUBLISH
X-ORIGINAL-URL:https://phuketrealestate.or.th
X-WR-CALDESC:Events for สมาคมอสังหาริมทรัพย์ภูเก็ต (P-REA)
REFRESH-INTERVAL;VALUE=DURATION:PT1H
X-Robots-Tag:noindex
X-PUBLISHED-TTL:PT1H
BEGIN:VTIMEZONE
TZID:Asia/Krasnoyarsk
BEGIN:STANDARD
TZOFFSETFROM:+0700
TZOFFSETTO:+0700
TZNAME:+07
DTSTART:20240101T000000
END:STANDARD
END:VTIMEZONE
BEGIN:VEVENT
DTSTART;TZID=Asia/Krasnoyarsk:20240719T133000
DTEND;TZID=Asia/Krasnoyarsk:20240719T183000
DTSTAMP:20260426T060637
CREATED:20240708T105429Z
LAST-MODIFIED:20240708T105429Z
UID:230-1721395800-1721413800@phuketrealestate.or.th
SUMMARY:สัมมนา "การขายอสังหาริมทรัพย์กับตลาดชาวต่างชาติ"
DESCRIPTION:เรียนเชิญสมาชิกสมาคมอสังหาริมทรัพย์ภูเก็ตและบุคคลภายนอก \n\n\n เข้าร่วมฟังสัมมนา “การขายอสังหาริมทรัพย์กับตลาดชาวต่างชาติ” \nในหัวข้อ “เจาะลึกทิศทางตลาดอสังหาริมทรัพย์ต่างชาติ International Real Estate Marketing” \n\n\n เนื้อหาที่น่าสนใจ:\n เจาะลึกสถานการณ์ตลาดต่างชาติล่าสุด\n แนวโน้มตลาดต่างชาติในครึ่งปีหลัง 2567\n\n\n วิทยากรผู้ทรงคุณวุฒิ 3 ท่าน ได้แก่:\n คุณบุญ ยงสกุล ประธานกรรมการ บริษัท โบ๊ทพัฒนา จำกัด\n นายอรรถสิทธิ์ อินทรชูติ ประธานกรรมการ บริษัท โบทานิก้า ลักซูรี่ ภูเก็ต จำกัด\n คุณจุฑาทิพย์ ลักษณาวงศ์ Head of Agent Growth and Integrity Group Dot Property Group จาก Fazwaz\n\n\n วันศุกร์ที่ 19 กรกฎาคม พ.ศ. 2567\n เวลา 13:30 – 16:30 น.\n ณ NH Boat Lagoon Resort\n\n\n ราคาเข้าร่วมงาน:\nสมาชิกสมาคมเข้าร่วมฟรี พร้อมผู้ติดตาม 1 ท่าน\nบุคคลภายนอกท่านละ 500 บาท\n พร้อมบริการ Coffee Break ระหว่างการสัมมนา\n\n\n เริ่มลงทะเบียนได้ตั้งแต่วันนี้ที่\nhttps://forms.gle/guS78YmhAZkSgGP1A\n\n\n สอบถามข้อมูลเพิ่มเติมได้ที่:\nสมาคมอสังหาริมทรัพย์ภูเก็ต\nTel: 086 – 471 – 4874\nEmail: prea.news@gmail.com
URL:https://phuketrealestate.or.th/event/%e0%b8%aa%e0%b8%b1%e0%b8%a1%e0%b8%a1%e0%b8%99%e0%b8%b2-%e0%b8%81%e0%b8%b2%e0%b8%a3%e0%b8%82%e0%b8%b2%e0%b8%a2%e0%b8%ad%e0%b8%aa%e0%b8%b1%e0%b8%87%e0%b8%ab%e0%b8%b2%e0%b8%a3%e0%b8%b4%e0%b8%a1/
LOCATION:NH Boat Lagoon Resort
END:VEVENT
END:VCALENDAR